BEGIN:VCALENDAR
VERSION:2.0
PRODID:-//EU-SDGN - ECPv6.15.20//NONSGML v1.0//EN
CALSCALE:GREGORIAN
METHOD:PUBLISH
X-WR-CALNAME:EU-SDGN
X-ORIGINAL-URL:https://eusdgn.org
X-WR-CALDESC:Events for EU-SDGN
REFRESH-INTERVAL;VALUE=DURATION:PT1H
X-Robots-Tag:noindex
X-PUBLISHED-TTL:PT1H
BEGIN:VTIMEZONE
TZID:Europe/Paris
BEGIN:DAYLIGHT
TZOFFSETFROM:+0100
TZOFFSETTO:+0200
TZNAME:CEST
DTSTART:20250330T010000
END:DAYLIGHT
BEGIN:STANDARD
TZOFFSETFROM:+0200
TZOFFSETTO:+0100
TZNAME:CET
DTSTART:20251026T010000
END:STANDARD
BEGIN:DAYLIGHT
TZOFFSETFROM:+0100
TZOFFSETTO:+0200
TZNAME:CEST
DTSTART:20260329T010000
END:DAYLIGHT
BEGIN:STANDARD
TZOFFSETFROM:+0200
TZOFFSETTO:+0100
TZNAME:CET
DTSTART:20261025T010000
END:STANDARD
BEGIN:DAYLIGHT
TZOFFSETFROM:+0100
TZOFFSETTO:+0200
TZNAME:CEST
DTSTART:20270328T010000
END:DAYLIGHT
BEGIN:STANDARD
TZOFFSETFROM:+0200
TZOFFSETTO:+0100
TZNAME:CET
DTSTART:20271031T010000
END:STANDARD
END:VTIMEZONE
BEGIN:VEVENT
DTSTART;TZID=Europe/Paris:20260413T090000
DTEND;TZID=Europe/Paris:20260413T133000
DTSTAMP:20260423T223305
CREATED:20260331T160503Z
LAST-MODIFIED:20260331T160503Z
UID:10000435-1776070800-1776087000@eusdgn.org
SUMMARY:STRATEGY ADVOCACY MEETING ON ADVANCING WOMEN’S POLITICAL LEADERSHIP: STRENGTHENING PATHWAYS TO INCLUSIVE REPRESENTATION IN 2027
DESCRIPTION:Organised by PLAC\, Nigerian Women Trust Fund (NWTF) and (NBA) Section on Public Interest and Development Law (SPIDEL)\nwith support from the European Union (EU) \nDATE: Monday\, 13 April 2026\nTIME: 9:00am – 1:30pm\n           VENUE: Abuja Continental Hotel\, Abuja
URL:https://eusdgn.org/event-new/strategy-advocacy-meeting-on-advancing-womens-political-leadership-strengthening-pathways-to-inclusive-representation-in-2027/
LOCATION:Abuja Continental Hotel\, Abuja
END:VEVENT
END:VCALENDAR